BEGIN:VCALENDAR
VERSION:2.0
PRODID:-//hacksw/handcal//NONSGML v1.0//EN
BEGIN:VEVENT
SUMMARY:3D Exterieur FFTA & UFOLEP a St Maximin (83)
UID:28cbc48a-e6a2-43ff-bc77-804e74a8e4f0
DTSTART:20260703T220000Z
DTEND:20260705T220000Z
LOCATION:Localisation   
CATEGORIES:Sportif
STATUS:
URL;VALUE=URI:https://archers-du-soleil.sportsregions.fr/evenements/2026/07/04/3d-exterieur-ffta-ufolep-a-st-maximin-83-2433213
END:VEVENT
END:VCALENDAR
