BEGIN:VCALENDAR
VERSION:2.0
PRODID:-//hacksw/handcal//NONSGML v1.0//EN
BEGIN:VEVENT
SUMMARY:Tir Beursault a Barcelonnette (FFTA)
UID:ea5930e3-df27-4bfb-b193-971798b744b0
DTSTART:20260522T220000Z
DTEND:20260525T220000Z
LOCATION:Localisation   
CATEGORIES:Sportif
STATUS:
URL;VALUE=URI:https://archers-du-soleil.sportsregions.fr/evenements/2026/05/23/tir-beursault-a-barcelonnette-ffta-2420787
END:VEVENT
END:VCALENDAR
