BEGIN:VCALENDAR
VERSION:2.0
PRODID:-//hacksw/handcal//NONSGML v1.0//EN
BEGIN:VEVENT
SUMMARY:Tir 3D & Tir Campagne a Gresse en Vercors (38)
UID:77bc899d-b666-42c7-b1b7-6c3823be4740
DTSTART:20260514T220000Z
DTEND:20260517T220000Z
LOCATION:Localisation   
CATEGORIES:Sportif
STATUS:
URL;VALUE=URI:https://archers-du-soleil.sportsregions.fr/evenements/2026/05/15/tir-3d-tir-campagne-a-gresse-en-vercors-38-2426501
END:VEVENT
END:VCALENDAR
