BEGIN:VCALENDAR
VERSION:2.0
PRODID:-//hacksw/handcal//NONSGML v1.0//EN
BEGIN:VEVENT
SUMMARY:Exterieur Ufolep a  L’Escale (04)
UID:8b9e6ec1-875d-4297-ade3-f2d912358250
DTSTART:20260507T220000Z
DTEND:20260508T220000Z
LOCATION:Localisation   
CATEGORIES:Sportif
STATUS:
DESCRIPTION:<p><a
 href="https://admin.sportsregions.fr/media/uploaded/sites/4446/kcupload/files/Concours%20ext%20%2008.05.2026(1).pdf"
 target="_blank" rel="noreferrer noopener">Mandat ici</a></p>
URL;VALUE=URI:https://archers-du-soleil.sportsregions.fr/evenements/2026/05/08/exterieur-ufolep-a-lescale-04-2441234
END:VEVENT
END:VCALENDAR
