BEGIN:VCALENDAR
VERSION:2.0
PRODID:-//hacksw/handcal//NONSGML v1.0//EN
BEGIN:VEVENT
SUMMARY:Amical 3D a  Caumont sur Durance (84)
UID:dc92dcfc-526a-40ab-a07a-4c78dc48c451
DTSTART:20260507T220000Z
DTEND:20260508T220000Z
LOCATION:Localisation   
CATEGORIES:Sportif
STATUS:
URL;VALUE=URI:https://archers-du-soleil.sportsregions.fr/evenements/2026/05/08/amical-3d-a-caumont-sur-durance-84-2439667
END:VEVENT
END:VCALENDAR
