BEGIN:VCALENDAR
VERSION:2.0
PRODID:-//hacksw/handcal//NONSGML v1.0//EN
BEGIN:VEVENT
SUMMARY:Tir Campagne FFTA a Gonfaron (83)
UID:cab0283f-ae59-4520-921d-ff2564f21b97
DTSTART:20260411T220000Z
DTEND:20260412T220000Z
LOCATION:Localisation   
CATEGORIES:Sportif
STATUS:
URL;VALUE=URI:https://archers-du-soleil.sportsregions.fr/evenements/2026/04/12/tir-campagne-ffta-a-gonfaron-83-2427857
END:VEVENT
END:VCALENDAR
