BEGIN:VCALENDAR
VERSION:2.0
PRODID:-//hacksw/handcal//NONSGML v1.0//EN
BEGIN:VEVENT
SUMMARY:Tir 3D Jeunes a L'Escale (04)
UID:28bbb8fb-ac71-4b7a-b1ff-b205c2a2bc8a
DTSTART:20260410T220000Z
DTEND:20260411T220000Z
LOCATION:Localisation   
CATEGORIES:Sportif
STATUS:
URL;VALUE=URI:https://archers-du-soleil.sportsregions.fr/evenements/2026/04/11/tir-3d-jeunes-a-lescale-04-2434801
END:VEVENT
END:VCALENDAR
