BEGIN:VCALENDAR
VERSION:2.0
PRODID:-//hacksw/handcal//NONSGML v1.0//EN
BEGIN:VEVENT
SUMMARY:Regional Exterieur Ufolep a Miramas (13)
UID:9e053260-847d-4eb1-92d3-c310f8fc6c77
DTSTART:20260410T220000Z
DTEND:20260412T220000Z
LOCATION:Localisation   
CATEGORIES:Sportif
STATUS:
URL;VALUE=URI:https://archers-du-soleil.sportsregions.fr/evenements/2026/04/11/regional-exterieur-ufolep-a-miramas-13-2427854
END:VEVENT
END:VCALENDAR
